BEGIN:VCALENDAR
VERSION:2.0
PRODID:-//Free Mountain - Shop - Bikes - Skis - Renting//NONSGML kigkonsult
 .se iCalcreator 2.16.12//
METHOD:PUBLISH
X-MS-OLK-FORCEINSPECTOROPEN:TRUE
BEGIN:VEVENT
UID:20260423T104501CEST-0892wA3N7J@Free Mountain - Shop - Bikes - Skis - Re
 nting
DTSTAMP:20260423T084501Z
DESCRIPTION:AMFLOW Social Ride – Sei dabei! \n\nMit AMFLOW und dem innovati
 ven Antrieb von DJI bekam die E-MTB-Welt frischen Rückenwind. Maximale Pow
 er\, einen Top Performance und maximaler Fahrspaß – genau das feiern wir g
 emeinsam beim AMFLOW Social Ride!\n\nWann: Jeden letzten Mittwoch im Monat
  (April-Oktober)\nZeit: 18.30 Uhr\nTreffpunkt: Beim Free-Mountain Shop \n
 \nWir drehen zusammen eine entspannte Trail-Runde und genießen die Zeit au
 f unseren AMFLOW Bikes. Info AMFLOW Bikes\n\n- Du fährst bereits ein AMFLO
 W? Perfekt\, du bist herzlich eingeladen\, mit uns zu rollen\, auch wenn d
 u das bike nicht bei uns gekauft hast.\n- Noch kein AMFLOW und Interesse a
 n einem neunen Bike? Kein Problem! Auf Reservation stellen wir dir gerne e
 in Testbike in M\, L oder XL bereit.\n\nNach dem Ride wird’s gemütlich: Gr
 ill an (organisiert vom Free-Mountain Shop)\, zusammensitzen\, fachsimpeln
  und einfach einen guten Abend unter Bike-Begeisterten verbringen.\n\nAlso
  schnapp dir dein AMFLOW und sei dabei – wir freuen uns auf dich! \n\n\n\n
DTSTART:20260429T183000
DTEND:20260429T220000
LOCATION:Free-Mountain Shop
ORGANIZER:MAILTO:Free Mountain - Shop - Bikes - Skis - Renting <info@free-m
 ountain.ch>
SUMMARY:AMFLOW Social Ride – Sei dabei! 
END:VEVENT
END:VCALENDAR
